BEGIN:VCALENDAR
VERSION:2.0
PRODID:-//Maggie Hathaway Golf Course - ECPv6.15.18//NONSGML v1.0//EN
CALSCALE:GREGORIAN
METHOD:PUBLISH
X-ORIGINAL-URL:https://www.maggiehathawaygolf.com
X-WR-CALDESC:Events for Maggie Hathaway Golf Course
REFRESH-INTERVAL;VALUE=DURATION:PT1H
X-Robots-Tag:noindex
X-PUBLISHED-TTL:PT1H
BEGIN:VTIMEZONE
TZID:UTC
BEGIN:STANDARD
TZOFFSETFROM:+0000
TZOFFSETTO:+0000
TZNAME:UTC
DTSTART:20250101T000000
END:STANDARD
END:VTIMEZONE
BEGIN:VEVENT
DTSTART;TZID=UTC:20260514T070000
DTEND;TZID=UTC:20260514T120000
DTSTAMP:20260421T135252
CREATED:20260415T185600Z
LAST-MODIFIED:20260418T154517Z
UID:10000010-1778742000-1778760000@www.maggiehathawaygolf.com
SUMMARY:The range is subject to closing for maintenance.
DESCRIPTION:
URL:https://www.maggiehathawaygolf.com/event/the-range-is-closed-for-maintenance/2026-05-14/
END:VEVENT
BEGIN:VEVENT
DTSTART;TZID=UTC:20260521T070000
DTEND;TZID=UTC:20260521T120000
DTSTAMP:20260421T135252
CREATED:20260415T185600Z
LAST-MODIFIED:20260418T154517Z
UID:10000011-1779346800-1779364800@www.maggiehathawaygolf.com
SUMMARY:The range is subject to closing for maintenance.
DESCRIPTION:
URL:https://www.maggiehathawaygolf.com/event/the-range-is-closed-for-maintenance/2026-05-21/
END:VEVENT
BEGIN:VEVENT
DTSTART;TZID=UTC:20260528T070000
DTEND;TZID=UTC:20260528T120000
DTSTAMP:20260421T135252
CREATED:20260415T185600Z
LAST-MODIFIED:20260418T154517Z
UID:10000012-1779951600-1779969600@www.maggiehathawaygolf.com
SUMMARY:The range is subject to closing for maintenance.
DESCRIPTION:
URL:https://www.maggiehathawaygolf.com/event/the-range-is-closed-for-maintenance/2026-05-28/
END:VEVENT
BEGIN:VEVENT
DTSTART;TZID=UTC:20260604T070000
DTEND;TZID=UTC:20260604T120000
DTSTAMP:20260421T135252
CREATED:20260415T185600Z
LAST-MODIFIED:20260418T154517Z
UID:10000013-1780556400-1780574400@www.maggiehathawaygolf.com
SUMMARY:The range is subject to closing for maintenance.
DESCRIPTION:
URL:https://www.maggiehathawaygolf.com/event/the-range-is-closed-for-maintenance/2026-06-04/
END:VEVENT
BEGIN:VEVENT
DTSTART;TZID=UTC:20260611T070000
DTEND;TZID=UTC:20260611T120000
DTSTAMP:20260421T135252
CREATED:20260415T185600Z
LAST-MODIFIED:20260418T154517Z
UID:10000014-1781161200-1781179200@www.maggiehathawaygolf.com
SUMMARY:The range is subject to closing for maintenance.
DESCRIPTION:
URL:https://www.maggiehathawaygolf.com/event/the-range-is-closed-for-maintenance/2026-06-11/
END:VEVENT
BEGIN:VEVENT
DTSTART;TZID=UTC:20260618T070000
DTEND;TZID=UTC:20260618T120000
DTSTAMP:20260421T135252
CREATED:20260415T185600Z
LAST-MODIFIED:20260418T154517Z
UID:10000015-1781766000-1781784000@www.maggiehathawaygolf.com
SUMMARY:The range is subject to closing for maintenance.
DESCRIPTION:
URL:https://www.maggiehathawaygolf.com/event/the-range-is-closed-for-maintenance/2026-06-18/
END:VEVENT
BEGIN:VEVENT
DTSTART;TZID=UTC:20260625T070000
DTEND;TZID=UTC:20260625T120000
DTSTAMP:20260421T135252
CREATED:20260415T185600Z
LAST-MODIFIED:20260418T154517Z
UID:10000016-1782370800-1782388800@www.maggiehathawaygolf.com
SUMMARY:The range is subject to closing for maintenance.
DESCRIPTION:
URL:https://www.maggiehathawaygolf.com/event/the-range-is-closed-for-maintenance/2026-06-25/
END:VEVENT
BEGIN:VEVENT
DTSTART;TZID=UTC:20260702T070000
DTEND;TZID=UTC:20260702T120000
DTSTAMP:20260421T135252
CREATED:20260415T185600Z
LAST-MODIFIED:20260418T154517Z
UID:10000017-1782975600-1782993600@www.maggiehathawaygolf.com
SUMMARY:The range is subject to closing for maintenance.
DESCRIPTION:
URL:https://www.maggiehathawaygolf.com/event/the-range-is-closed-for-maintenance/2026-07-02/
END:VEVENT
BEGIN:VEVENT
DTSTART;TZID=UTC:20260709T070000
DTEND;TZID=UTC:20260709T120000
DTSTAMP:20260421T135252
CREATED:20260415T185600Z
LAST-MODIFIED:20260418T154517Z
UID:10000018-1783580400-1783598400@www.maggiehathawaygolf.com
SUMMARY:The range is subject to closing for maintenance.
DESCRIPTION:
URL:https://www.maggiehathawaygolf.com/event/the-range-is-closed-for-maintenance/2026-07-09/
END:VEVENT
BEGIN:VEVENT
DTSTART;TZID=UTC:20260716T070000
DTEND;TZID=UTC:20260716T120000
DTSTAMP:20260421T135252
CREATED:20260415T185600Z
LAST-MODIFIED:20260418T154517Z
UID:10000019-1784185200-1784203200@www.maggiehathawaygolf.com
SUMMARY:The range is subject to closing for maintenance.
DESCRIPTION:
URL:https://www.maggiehathawaygolf.com/event/the-range-is-closed-for-maintenance/2026-07-16/
END:VEVENT
BEGIN:VEVENT
DTSTART;TZID=UTC:20260723T070000
DTEND;TZID=UTC:20260723T120000
DTSTAMP:20260421T135252
CREATED:20260415T185600Z
LAST-MODIFIED:20260418T154517Z
UID:10000020-1784790000-1784808000@www.maggiehathawaygolf.com
SUMMARY:The range is subject to closing for maintenance.
DESCRIPTION:
URL:https://www.maggiehathawaygolf.com/event/the-range-is-closed-for-maintenance/2026-07-23/
END:VEVENT
BEGIN:VEVENT
DTSTART;TZID=UTC:20260730T070000
DTEND;TZID=UTC:20260730T120000
DTSTAMP:20260421T135252
CREATED:20260415T185600Z
LAST-MODIFIED:20260418T154517Z
UID:10000021-1785394800-1785412800@www.maggiehathawaygolf.com
SUMMARY:The range is subject to closing for maintenance.
DESCRIPTION:
URL:https://www.maggiehathawaygolf.com/event/the-range-is-closed-for-maintenance/2026-07-30/
END:VEVENT
BEGIN:VEVENT
DTSTART;TZID=UTC:20260806T070000
DTEND;TZID=UTC:20260806T120000
DTSTAMP:20260421T135252
CREATED:20260415T185600Z
LAST-MODIFIED:20260418T154517Z
UID:10000022-1785999600-1786017600@www.maggiehathawaygolf.com
SUMMARY:The range is subject to closing for maintenance.
DESCRIPTION:
URL:https://www.maggiehathawaygolf.com/event/the-range-is-closed-for-maintenance/2026-08-06/
END:VEVENT
BEGIN:VEVENT
DTSTART;TZID=UTC:20260813T070000
DTEND;TZID=UTC:20260813T120000
DTSTAMP:20260421T135252
CREATED:20260415T185600Z
LAST-MODIFIED:20260418T154517Z
UID:10000023-1786604400-1786622400@www.maggiehathawaygolf.com
SUMMARY:The range is subject to closing for maintenance.
DESCRIPTION:
URL:https://www.maggiehathawaygolf.com/event/the-range-is-closed-for-maintenance/2026-08-13/
END:VEVENT
BEGIN:VEVENT
DTSTART;TZID=UTC:20260820T070000
DTEND;TZID=UTC:20260820T120000
DTSTAMP:20260421T135252
CREATED:20260415T185600Z
LAST-MODIFIED:20260418T154517Z
UID:10000024-1787209200-1787227200@www.maggiehathawaygolf.com
SUMMARY:The range is subject to closing for maintenance.
DESCRIPTION:
URL:https://www.maggiehathawaygolf.com/event/the-range-is-closed-for-maintenance/2026-08-20/
END:VEVENT
BEGIN:VEVENT
DTSTART;TZID=UTC:20260827T070000
DTEND;TZID=UTC:20260827T120000
DTSTAMP:20260421T135252
CREATED:20260415T185600Z
LAST-MODIFIED:20260418T154517Z
UID:10000025-1787814000-1787832000@www.maggiehathawaygolf.com
SUMMARY:The range is subject to closing for maintenance.
DESCRIPTION:
URL:https://www.maggiehathawaygolf.com/event/the-range-is-closed-for-maintenance/2026-08-27/
END:VEVENT
BEGIN:VEVENT
DTSTART;TZID=UTC:20260903T070000
DTEND;TZID=UTC:20260903T120000
DTSTAMP:20260421T135252
CREATED:20260415T185600Z
LAST-MODIFIED:20260418T154517Z
UID:10000026-1788418800-1788436800@www.maggiehathawaygolf.com
SUMMARY:The range is subject to closing for maintenance.
DESCRIPTION:
URL:https://www.maggiehathawaygolf.com/event/the-range-is-closed-for-maintenance/2026-09-03/
END:VEVENT
BEGIN:VEVENT
DTSTART;TZID=UTC:20260910T070000
DTEND;TZID=UTC:20260910T120000
DTSTAMP:20260421T135252
CREATED:20260415T185600Z
LAST-MODIFIED:20260418T154517Z
UID:10000027-1789023600-1789041600@www.maggiehathawaygolf.com
SUMMARY:The range is subject to closing for maintenance.
DESCRIPTION:
URL:https://www.maggiehathawaygolf.com/event/the-range-is-closed-for-maintenance/2026-09-10/
END:VEVENT
BEGIN:VEVENT
DTSTART;TZID=UTC:20260917T070000
DTEND;TZID=UTC:20260917T120000
DTSTAMP:20260421T135252
CREATED:20260415T185600Z
LAST-MODIFIED:20260418T154517Z
UID:10000028-1789628400-1789646400@www.maggiehathawaygolf.com
SUMMARY:The range is subject to closing for maintenance.
DESCRIPTION:
URL:https://www.maggiehathawaygolf.com/event/the-range-is-closed-for-maintenance/2026-09-17/
END:VEVENT
BEGIN:VEVENT
DTSTART;TZID=UTC:20260924T070000
DTEND;TZID=UTC:20260924T120000
DTSTAMP:20260421T135252
CREATED:20260415T185600Z
LAST-MODIFIED:20260418T154517Z
UID:10000029-1790233200-1790251200@www.maggiehathawaygolf.com
SUMMARY:The range is subject to closing for maintenance.
DESCRIPTION:
URL:https://www.maggiehathawaygolf.com/event/the-range-is-closed-for-maintenance/2026-09-24/
END:VEVENT
BEGIN:VEVENT
DTSTART;TZID=UTC:20261001T070000
DTEND;TZID=UTC:20261001T120000
DTSTAMP:20260421T135252
CREATED:20260415T185600Z
LAST-MODIFIED:20260418T154517Z
UID:10000030-1790838000-1790856000@www.maggiehathawaygolf.com
SUMMARY:The range is subject to closing for maintenance.
DESCRIPTION:
URL:https://www.maggiehathawaygolf.com/event/the-range-is-closed-for-maintenance/2026-10-01/
END:VEVENT
BEGIN:VEVENT
DTSTART;TZID=UTC:20261008T070000
DTEND;TZID=UTC:20261008T120000
DTSTAMP:20260421T135252
CREATED:20260415T185600Z
LAST-MODIFIED:20260418T154517Z
UID:10000031-1791442800-1791460800@www.maggiehathawaygolf.com
SUMMARY:The range is subject to closing for maintenance.
DESCRIPTION:
URL:https://www.maggiehathawaygolf.com/event/the-range-is-closed-for-maintenance/2026-10-08/
END:VEVENT
BEGIN:VEVENT
DTSTART;TZID=UTC:20261015T070000
DTEND;TZID=UTC:20261015T120000
DTSTAMP:20260421T135252
CREATED:20260415T185600Z
LAST-MODIFIED:20260418T154517Z
UID:10000032-1792047600-1792065600@www.maggiehathawaygolf.com
SUMMARY:The range is subject to closing for maintenance.
DESCRIPTION:
URL:https://www.maggiehathawaygolf.com/event/the-range-is-closed-for-maintenance/2026-10-15/
END:VEVENT
BEGIN:VEVENT
DTSTART;TZID=UTC:20261022T070000
DTEND;TZID=UTC:20261022T120000
DTSTAMP:20260421T135252
CREATED:20260415T185600Z
LAST-MODIFIED:20260418T154517Z
UID:10000033-1792652400-1792670400@www.maggiehathawaygolf.com
SUMMARY:The range is subject to closing for maintenance.
DESCRIPTION:
URL:https://www.maggiehathawaygolf.com/event/the-range-is-closed-for-maintenance/2026-10-22/
END:VEVENT
BEGIN:VEVENT
DTSTART;TZID=UTC:20261029T070000
DTEND;TZID=UTC:20261029T120000
DTSTAMP:20260421T135252
CREATED:20260415T185600Z
LAST-MODIFIED:20260418T154517Z
UID:10000034-1793257200-1793275200@www.maggiehathawaygolf.com
SUMMARY:The range is subject to closing for maintenance.
DESCRIPTION:
URL:https://www.maggiehathawaygolf.com/event/the-range-is-closed-for-maintenance/2026-10-29/
END:VEVENT
BEGIN:VEVENT
DTSTART;TZID=UTC:20261105T070000
DTEND;TZID=UTC:20261105T120000
DTSTAMP:20260421T135252
CREATED:20260415T185600Z
LAST-MODIFIED:20260418T154517Z
UID:10000035-1793862000-1793880000@www.maggiehathawaygolf.com
SUMMARY:The range is subject to closing for maintenance.
DESCRIPTION:
URL:https://www.maggiehathawaygolf.com/event/the-range-is-closed-for-maintenance/2026-11-05/
END:VEVENT
BEGIN:VEVENT
DTSTART;TZID=UTC:20261112T070000
DTEND;TZID=UTC:20261112T120000
DTSTAMP:20260421T135252
CREATED:20260415T185600Z
LAST-MODIFIED:20260418T154517Z
UID:10000036-1794466800-1794484800@www.maggiehathawaygolf.com
SUMMARY:The range is subject to closing for maintenance.
DESCRIPTION:
URL:https://www.maggiehathawaygolf.com/event/the-range-is-closed-for-maintenance/2026-11-12/
END:VEVENT
BEGIN:VEVENT
DTSTART;TZID=UTC:20261119T070000
DTEND;TZID=UTC:20261119T120000
DTSTAMP:20260421T135252
CREATED:20260415T185600Z
LAST-MODIFIED:20260418T154517Z
UID:10000037-1795071600-1795089600@www.maggiehathawaygolf.com
SUMMARY:The range is subject to closing for maintenance.
DESCRIPTION:
URL:https://www.maggiehathawaygolf.com/event/the-range-is-closed-for-maintenance/2026-11-19/
END:VEVENT
BEGIN:VEVENT
DTSTART;TZID=UTC:20261126T070000
DTEND;TZID=UTC:20261126T120000
DTSTAMP:20260421T135252
CREATED:20260415T185600Z
LAST-MODIFIED:20260418T154517Z
UID:10000038-1795676400-1795694400@www.maggiehathawaygolf.com
SUMMARY:The range is subject to closing for maintenance.
DESCRIPTION:
URL:https://www.maggiehathawaygolf.com/event/the-range-is-closed-for-maintenance/2026-11-26/
END:VEVENT
BEGIN:VEVENT
DTSTART;TZID=UTC:20261203T070000
DTEND;TZID=UTC:20261203T120000
DTSTAMP:20260421T135252
CREATED:20260415T185600Z
LAST-MODIFIED:20260418T154517Z
UID:10000039-1796281200-1796299200@www.maggiehathawaygolf.com
SUMMARY:The range is subject to closing for maintenance.
DESCRIPTION:
URL:https://www.maggiehathawaygolf.com/event/the-range-is-closed-for-maintenance/2026-12-03/
END:VEVENT
END:VCALENDAR