BEGIN:VCALENDAR
VERSION:2.0
PRODID:-//Maggie Hathaway Golf Course - ECPv6.15.18//NONSGML v1.0//EN
CALSCALE:GREGORIAN
METHOD:PUBLISH
X-WR-CALNAME:Maggie Hathaway Golf Course
X-ORIGINAL-URL:https://www.maggiehathawaygolf.com
X-WR-CALDESC:Events for Maggie Hathaway Golf Course
REFRESH-INTERVAL;VALUE=DURATION:PT1H
X-Robots-Tag:noindex
X-PUBLISHED-TTL:PT1H
BEGIN:VTIMEZONE
TZID:UTC
BEGIN:STANDARD
TZOFFSETFROM:+0000
TZOFFSETTO:+0000
TZNAME:UTC
DTSTART:20250101T000000
END:STANDARD
END:VTIMEZONE
BEGIN:VEVENT
DTSTART;TZID=UTC:20261231T070000
DTEND;TZID=UTC:20261231T120000
DTSTAMP:20260422T093136
CREATED:20260415T185600Z
LAST-MODIFIED:20260418T154517Z
UID:10000043-1798700400-1798718400@www.maggiehathawaygolf.com
SUMMARY:The range is subject to closing for maintenance.
DESCRIPTION:
URL:https://www.maggiehathawaygolf.com/event/the-range-is-closed-for-maintenance/2026-12-31/
END:VEVENT
END:VCALENDAR