BEGIN:VCALENDAR
VERSION:2.0
PRODID:-//Maggie Hathaway Golf Course - ECPv6.15.18//NONSGML v1.0//EN
CALSCALE:GREGORIAN
METHOD:PUBLISH
X-ORIGINAL-URL:https://www.maggiehathawaygolf.com
X-WR-CALDESC:Events for Maggie Hathaway Golf Course
REFRESH-INTERVAL;VALUE=DURATION:PT1H
X-Robots-Tag:noindex
X-PUBLISHED-TTL:PT1H
BEGIN:VTIMEZONE
TZID:UTC
BEGIN:STANDARD
TZOFFSETFROM:+0000
TZOFFSETTO:+0000
TZNAME:UTC
DTSTART:20250101T000000
END:STANDARD
END:VTIMEZONE
BEGIN:VEVENT
DTSTART;TZID=UTC:20261119T070000
DTEND;TZID=UTC:20261119T120000
DTSTAMP:20260422T061928
CREATED:20260415T185600Z
LAST-MODIFIED:20260418T154517Z
UID:10000037-1795071600-1795089600@www.maggiehathawaygolf.com
SUMMARY:The range is subject to closing for maintenance.
DESCRIPTION:
URL:https://www.maggiehathawaygolf.com/event/the-range-is-closed-for-maintenance/2026-11-19/
END:VEVENT
BEGIN:VEVENT
DTSTART;TZID=UTC:20261126T070000
DTEND;TZID=UTC:20261126T120000
DTSTAMP:20260422T061928
CREATED:20260415T185600Z
LAST-MODIFIED:20260418T154517Z
UID:10000038-1795676400-1795694400@www.maggiehathawaygolf.com
SUMMARY:The range is subject to closing for maintenance.
DESCRIPTION:
URL:https://www.maggiehathawaygolf.com/event/the-range-is-closed-for-maintenance/2026-11-26/
END:VEVENT
BEGIN:VEVENT
DTSTART;TZID=UTC:20261203T070000
DTEND;TZID=UTC:20261203T120000
DTSTAMP:20260422T061928
CREATED:20260415T185600Z
LAST-MODIFIED:20260418T154517Z
UID:10000039-1796281200-1796299200@www.maggiehathawaygolf.com
SUMMARY:The range is subject to closing for maintenance.
DESCRIPTION:
URL:https://www.maggiehathawaygolf.com/event/the-range-is-closed-for-maintenance/2026-12-03/
END:VEVENT
BEGIN:VEVENT
DTSTART;TZID=UTC:20261210T070000
DTEND;TZID=UTC:20261210T120000
DTSTAMP:20260422T061928
CREATED:20260415T185600Z
LAST-MODIFIED:20260418T154517Z
UID:10000040-1796886000-1796904000@www.maggiehathawaygolf.com
SUMMARY:The range is subject to closing for maintenance.
DESCRIPTION:
URL:https://www.maggiehathawaygolf.com/event/the-range-is-closed-for-maintenance/2026-12-10/
END:VEVENT
BEGIN:VEVENT
DTSTART;TZID=UTC:20261217T070000
DTEND;TZID=UTC:20261217T120000
DTSTAMP:20260422T061928
CREATED:20260415T185600Z
LAST-MODIFIED:20260418T154517Z
UID:10000041-1797490800-1797508800@www.maggiehathawaygolf.com
SUMMARY:The range is subject to closing for maintenance.
DESCRIPTION:
URL:https://www.maggiehathawaygolf.com/event/the-range-is-closed-for-maintenance/2026-12-17/
END:VEVENT
BEGIN:VEVENT
DTSTART;TZID=UTC:20261224T070000
DTEND;TZID=UTC:20261224T120000
DTSTAMP:20260422T061928
CREATED:20260415T185600Z
LAST-MODIFIED:20260418T154517Z
UID:10000042-1798095600-1798113600@www.maggiehathawaygolf.com
SUMMARY:The range is subject to closing for maintenance.
DESCRIPTION:
URL:https://www.maggiehathawaygolf.com/event/the-range-is-closed-for-maintenance/2026-12-24/
END:VEVENT
BEGIN:VEVENT
DTSTART;TZID=UTC:20261231T070000
DTEND;TZID=UTC:20261231T120000
DTSTAMP:20260422T061928
CREATED:20260415T185600Z
LAST-MODIFIED:20260418T154517Z
UID:10000043-1798700400-1798718400@www.maggiehathawaygolf.com
SUMMARY:The range is subject to closing for maintenance.
DESCRIPTION:
URL:https://www.maggiehathawaygolf.com/event/the-range-is-closed-for-maintenance/2026-12-31/
END:VEVENT
END:VCALENDAR